BEGIN:VCALENDAR
VERSION:2.0
PRODID:-//Ministry of Justice, Cook Islands - ECPv6.15.20//NONSGML v1.0//EN
CALSCALE:GREGORIAN
METHOD:PUBLISH
X-WR-CALNAME:Ministry of Justice, Cook Islands
X-ORIGINAL-URL:http://54.253.3.69
X-WR-CALDESC:Events for Ministry of Justice, Cook Islands
REFRESH-INTERVAL;VALUE=DURATION:PT1H
X-Robots-Tag:noindex
X-PUBLISHED-TTL:PT1H
BEGIN:VTIMEZONE
TZID:Pacific/Rarotonga
BEGIN:STANDARD
TZOFFSETFROM:-1000
TZOFFSETTO:-1000
TZNAME:-10
DTSTART:20250101T000000
END:STANDARD
END:VTIMEZONE
BEGIN:VEVENT
DTSTART;VALUE=DATE:20260413
DTEND;VALUE=DATE:20260425
DTSTAMP:20260421T012310
CREATED:20260122T034817Z
LAST-MODIFIED:20260122T034817Z
UID:3703-1776038400-1777075199@54.253.3.69
SUMMARY:Land Court presided by Judge Isaac
DESCRIPTION:
URL:http://54.253.3.69/event/land-court-presided-by-judge-isaac/
CATEGORIES:High Court,Land Court
END:VEVENT
BEGIN:VEVENT
DTSTART;VALUE=DATE:20260424
DTEND;VALUE=DATE:20260425
DTSTAMP:20260421T012310
CREATED:20251231T190355Z
LAST-MODIFIED:20251231T190355Z
UID:3521-1776988800-1777075199@54.253.3.69
SUMMARY:Criminal Callover presided by Chief Justice Keane
DESCRIPTION:
URL:http://54.253.3.69/event/criminal-callover-presided-by-chief-justice-keane/
CATEGORIES:High Court
END:VEVENT
END:VCALENDAR